BEGIN:VCALENDAR
VERSION:2.0
PRODID:-//Eternal Gandhi Museum Houston - ECPv6.15.14//NONSGML v1.0//EN
CALSCALE:GREGORIAN
METHOD:PUBLISH
X-WR-CALNAME:Eternal Gandhi Museum Houston
X-ORIGINAL-URL:https://egmh.org/staging
X-WR-CALDESC:Events for Eternal Gandhi Museum Houston
REFRESH-INTERVAL;VALUE=DURATION:PT1H
X-Robots-Tag:noindex
X-PUBLISHED-TTL:PT1H
BEGIN:VTIMEZONE
TZID:America/New_York
BEGIN:DAYLIGHT
TZOFFSETFROM:-0500
TZOFFSETTO:-0400
TZNAME:EDT
DTSTART:20250309T070000
END:DAYLIGHT
BEGIN:STANDARD
TZOFFSETFROM:-0400
TZOFFSETTO:-0500
TZNAME:EST
DTSTART:20251102T060000
END:STANDARD
BEGIN:DAYLIGHT
TZOFFSETFROM:-0500
TZOFFSETTO:-0400
TZNAME:EDT
DTSTART:20260308T070000
END:DAYLIGHT
BEGIN:STANDARD
TZOFFSETFROM:-0400
TZOFFSETTO:-0500
TZNAME:EST
DTSTART:20261101T060000
END:STANDARD
BEGIN:DAYLIGHT
TZOFFSETFROM:-0500
TZOFFSETTO:-0400
TZNAME:EDT
DTSTART:20270314T070000
END:DAYLIGHT
BEGIN:STANDARD
TZOFFSETFROM:-0400
TZOFFSETTO:-0500
TZNAME:EST
DTSTART:20271107T060000
END:STANDARD
END:VTIMEZONE
BEGIN:VEVENT
DTSTART;TZID=America/New_York:20261012T120000
DTEND;TZID=America/New_York:20261012T180000
DTSTAMP:20260422T050119
CREATED:20260216T115333Z
LAST-MODIFIED:20260418T115825Z
UID:20127-1791806400-1791828000@egmh.org
SUMMARY:Golf Tournament 2026
DESCRIPTION:Join 5th Annual Charity Golf tournament. Swing for Peace\nOctober 12\, 2026 – Registration & Lunch: 12 Noon \nRegistration Fee: $800 /4-Person team  –  Sponsorship Opportunities Available \n 
URL:https://egmh.org/staging/event/golf-tournament-2026/
LOCATION:Eternal Gandhi Museum Houston\, 12379 Riceville School Road\, Houston\, TX\, 77031\, United States
CATEGORIES:Invitation
ATTACH;FMTTYPE=image/webp:https://egmh.org/staging/wp-content/uploads/2026/04/GolfFlyer2026-scaled-1.webp
END:VEVENT
END:VCALENDAR