BEGIN:VCALENDAR
VERSION:2.0
PRODID:-//Eternal Gandhi Museum Houston - ECPv6.15.15//NONSGML v1.0//EN
CALSCALE:GREGORIAN
METHOD:PUBLISH
X-WR-CALNAME:Eternal Gandhi Museum Houston
X-ORIGINAL-URL:https://egmh.org
X-WR-CALDESC:Events for Eternal Gandhi Museum Houston
REFRESH-INTERVAL;VALUE=DURATION:PT1H
X-Robots-Tag:noindex
X-PUBLISHED-TTL:PT1H
BEGIN:VTIMEZONE
TZID:America/Chicago
BEGIN:DAYLIGHT
TZOFFSETFROM:-0600
TZOFFSETTO:-0500
TZNAME:CDT
DTSTART:20250309T080000
END:DAYLIGHT
BEGIN:STANDARD
TZOFFSETFROM:-0500
TZOFFSETTO:-0600
TZNAME:CST
DTSTART:20251102T070000
END:STANDARD
BEGIN:DAYLIGHT
TZOFFSETFROM:-0600
TZOFFSETTO:-0500
TZNAME:CDT
DTSTART:20260308T080000
END:DAYLIGHT
BEGIN:STANDARD
TZOFFSETFROM:-0500
TZOFFSETTO:-0600
TZNAME:CST
DTSTART:20261101T070000
END:STANDARD
BEGIN:DAYLIGHT
TZOFFSETFROM:-0600
TZOFFSETTO:-0500
TZNAME:CDT
DTSTART:20270314T080000
END:DAYLIGHT
BEGIN:STANDARD
TZOFFSETFROM:-0500
TZOFFSETTO:-0600
TZNAME:CST
DTSTART:20271107T070000
END:STANDARD
END:VTIMEZONE
BEGIN:VEVENT
DTSTART;TZID=America/Chicago:20260510T140000
DTEND;TZID=America/Chicago:20260510T153000
DTSTAMP:20260422T074816
CREATED:20260420T165919Z
LAST-MODIFIED:20260421T152826Z
UID:12572-1778421600-1778427000@egmh.org
SUMMARY:Walking the Path of Peace  - Yoga & Meditation with Sound Immersion - May 10\, 2026
DESCRIPTION:Join Walking the Path of Peace – Yoga & Meditation with Sound Immersion \nWhen: May 17\, 2026 (Sunday) 2 pm to 3:30 pm \nRegistration Fee: FREE Admission \nEternal Gandhi Museum Houston\n12379 Riceville Road\nHouston\, TX 77031 \n  \n  \n  \n  \n\n  \n.
URL:https://egmh.org/event/walking-the-path-of-peace-yoga-meditation-with-sound-immersion-may-17-2026/
LOCATION:Eternal Gandhi Museum Houston\, 12379 Riceville School Road\, Houston\, TX\, 77031\, United States
CATEGORIES:Yoga & Meditation
ATTACH;FMTTYPE=image/jpeg:https://egmh.org/wp-content/uploads/2026/04/Walking-the-Path-of-PeaceMay2026-1-scaled.jpg
END:VEVENT
BEGIN:VEVENT
DTSTART;TZID=America/Chicago:20260620T140000
DTEND;TZID=America/Chicago:20260620T153000
DTSTAMP:20260422T074816
CREATED:20260419T023507Z
LAST-MODIFIED:20260420T165012Z
UID:12567-1781964000-1781969400@egmh.org
SUMMARY:International Day of Yoga Celebration - June 20\, 2026
DESCRIPTION:Join International Day of Yoga Celebration 2026 \nWhen: June 20 2026 (Saturday) 2 pm to 3:30 pm \nRegistration Fee: FREE Admission \nEternal Gandhi Museum Houston\n12379 Riceville Road\nHouston\, TX 77031 \n  \n  \n  \n  \n\n  \n.
URL:https://egmh.org/event/idycelebration2026/
LOCATION:Eternal Gandhi Museum Houston\, 12379 Riceville School Road\, Houston\, TX\, 77031\, United States
CATEGORIES:Yoga & Meditation
ATTACH;FMTTYPE=image/jpeg:https://egmh.org/wp-content/uploads/2026/04/InternationalYoga2026_1-scaled.jpg
END:VEVENT
BEGIN:VEVENT
DTSTART;TZID=America/Chicago:20261012T120000
DTEND;TZID=America/Chicago:20261012T180000
DTSTAMP:20260422T074816
CREATED:20260216T152219Z
LAST-MODIFIED:20260313T165721Z
UID:12534-1791806400-1791828000@egmh.org
SUMMARY:Golf Tournament 2026
DESCRIPTION:Join 5th Annual Charity Golf tournament. Swing for Peace\nOctober 12\, 2026 – Registration & Lunch: 12 Noon \nRegistration Fee: $800 /4-Person team  –  Sponsorship Opportunities Available \n 
URL:https://egmh.org/event/golf-tournament-2026/
LOCATION:Eternal Gandhi Museum Houston\, 12379 Riceville School Road\, Houston\, TX\, 77031\, United States
CATEGORIES:Invitation
ATTACH;FMTTYPE=image/jpeg:https://egmh.org/wp-content/uploads/2026/02/GolfFlyer2026-scaled.jpg
END:VEVENT
END:VCALENDAR